BEGIN:VCALENDAR
VERSION:2.0
PRODID:icalendar-ruby
CALSCALE:GREGORIAN
METHOD:PUBLISH
BEGIN:VEVENT
DTSTAMP:20260424T053030Z
UID:7-355155@heartoflongmont.org
DTSTART:20261101T170000Z
DTEND:20261101T180000Z
CLASS:PUBLIC
CREATED:20260423T212551
DESCRIPTION:Join us at 10:00 AM for Sunday worship service in person or onl
 ine—we livestream service to our YouTube channel! 
LAST-MODIFIED:20260423T212551
LOCATION:Heart of Longmont Sanctuary
SUMMARY:Worship Service
URL;VALUE=URI:https://heartoflongmont.org/events/worship-service--7/2026-11
 -01
ATTACH;FILENAME=12-2025-HOL-Church-Building-Winter-REV2.png;FMTTYPE=image/p
 ng:https://dq5pwpg1q8ru0.cloudfront.net/2026/01/13/18/03/03/57778561-22e8-
 429c-b544-c04c63d27a33/12-2025-HOL-Church-Building-Winter-REV2.png
END:VEVENT
END:VCALENDAR
