BEGIN:VCALENDAR
VERSION:2.0
PRODID:icalendar-ruby
CALSCALE:GREGORIAN
METHOD:PUBLISH
BEGIN:VEVENT
DTSTAMP:20260423T190230Z
UID:58-354235@heartoflongmont.org
DTSTART:20260508T180000Z
DTEND:20260508T190000Z
CLASS:PUBLIC
CREATED:20260423T092953
DESCRIPTION:Learn and practice different meditation techniques from many di
 fferent traditions. No experience necessary!
LAST-MODIFIED:20260423T092953
LOCATION:HOL Chapel
SUMMARY:Meditation Class
URL;VALUE=URI:https://heartoflongmont.org/events/meditation-class--58/2026-
 05-08
ATTACH;FILENAME=web-05-08-05-22-meditation-class.png;FMTTYPE=image/png:http
 s://dq5pwpg1q8ru0.cloudfront.net/2026/04/23/15/29/19/db38bf38-93dc-412d-bd
 8b-cceb45ad03fb/web-05-08-05-22-meditation-class.png
END:VEVENT
END:VCALENDAR
