BEGIN:VCALENDAR
VERSION:2.0
PRODID:icalendar-ruby
CALSCALE:GREGORIAN
METHOD:PUBLISH
BEGIN:VEVENT
DTSTAMP:20260424T130359Z
UID:17-355419@heartoflongmont.org
DTSTART:20261101T153000Z
DTEND:20261101T163000Z
CLASS:PUBLIC
CREATED:20260424T065352
DESCRIPTION:\nFaith and Reason are a Sunday study and discussion group that
  takes on subjects that inform and stretch our faith. They meet on Sundays
  from 8:30 AM to 9:30 AM either via Zoom or in person. Coffee is available
  during discussion. If this sounds interesting to you\, please consider jo
 ining!\nFor more information and to join the class\, please contact Sandy 
 Rabenhorst.\n
LAST-MODIFIED:20260424T065352
LOCATION:
SUMMARY:Faith and Reason Study Group
URL;VALUE=URI:https://heartoflongmont.org/events/faith-and-reason-study-gro
 up/2026-11-01
ATTACH;FILENAME=Group-Faith-and-Reason-2025.png;FMTTYPE=image/png:https://d
 q5pwpg1q8ru0.cloudfront.net/2025/12/09/18/33/26/98366ff6-62af-4bd0-8f5c-22
 3aac309a73/Group-Faith-and-Reason-2025.png
END:VEVENT
END:VCALENDAR
